BEGIN:VCALENDAR
VERSION:2.0
PRODID:-//Ocean Ridge MPOA - ECPv6.15.20//NONSGML v1.0//EN
CALSCALE:GREGORIAN
METHOD:PUBLISH
X-ORIGINAL-URL:https://www.oceanridgempoa.com
X-WR-CALDESC:Events for Ocean Ridge MPOA
REFRESH-INTERVAL;VALUE=DURATION:PT1H
X-Robots-Tag:noindex
X-PUBLISHED-TTL:PT1H
BEGIN:VTIMEZONE
TZID:America/New_York
BEGIN:DAYLIGHT
TZOFFSETFROM:-0500
TZOFFSETTO:-0400
TZNAME:EDT
DTSTART:20230312T070000
END:DAYLIGHT
BEGIN:STANDARD
TZOFFSETFROM:-0400
TZOFFSETTO:-0500
TZNAME:EST
DTSTART:20231105T060000
END:STANDARD
BEGIN:DAYLIGHT
TZOFFSETFROM:-0500
TZOFFSETTO:-0400
TZNAME:EDT
DTSTART:20240310T070000
END:DAYLIGHT
BEGIN:STANDARD
TZOFFSETFROM:-0400
TZOFFSETTO:-0500
TZNAME:EST
DTSTART:20241103T060000
END:STANDARD
BEGIN:DAYLIGHT
TZOFFSETFROM:-0500
TZOFFSETTO:-0400
TZNAME:EDT
DTSTART:20250309T070000
END:DAYLIGHT
BEGIN:STANDARD
TZOFFSETFROM:-0400
TZOFFSETTO:-0500
TZNAME:EST
DTSTART:20251102T060000
END:STANDARD
END:VTIMEZONE
BEGIN:VEVENT
DTSTART;TZID=America/New_York:20240120T100000
DTEND;TZID=America/New_York:20240120T120000
DTSTAMP:20260424T183308
CREATED:20230424T140547Z
LAST-MODIFIED:20230424T140547Z
UID:2934-1705744800-1705752000@www.oceanridgempoa.com
SUMMARY:Ocean Ridge Master Property Owners Association Annual Meeting
DESCRIPTION:
URL:https://www.oceanridgempoa.com/event/ocean-ridge-master-property-owners-association-annual-meeting/
LOCATION:Lions Club\, 2907 Myrtle Street\, 2907 Myrtle Street\, Edisto Island\, SC\, 29438\, United States
CATEGORIES:Annual Meetings
END:VEVENT
END:VCALENDAR